BEGIN:VCALENDAR
VERSION:2.0
PRODID:-//Falla La Via - ECPv5.8.2//NONSGML v1.0//EN
CALSCALE:GREGORIAN
METHOD:PUBLISH
X-WR-CALNAME:Falla La Via
X-ORIGINAL-URL:http://fallalavia.es
X-WR-CALDESC:Esdeveniments per Falla La Via
BEGIN:VTIMEZONE
TZID:Europe/Madrid
BEGIN:DAYLIGHT
TZOFFSETFROM:+0100
TZOFFSETTO:+0200
TZNAME:CEST
DTSTART:20260329T010000
END:DAYLIGHT
BEGIN:STANDARD
TZOFFSETFROM:+0200
TZOFFSETTO:+0100
TZNAME:CET
DTSTART:20261025T010000
END:STANDARD
END:VTIMEZONE
BEGIN:VEVENT
DTSTART;TZID=Europe/Madrid:20260502T180000
DTEND;TZID=Europe/Madrid:20260502T193000
DTSTAMP:20260420T131316
CREATED:20260415T151405Z
LAST-MODIFIED:20260415T151405Z
UID:5025-1777744800-1777750200@fallalavia.es
SUMMARY:Assemblea General Ordinària i crida als màxims representants 2027
DESCRIPTION:
URL:http://fallalavia.es/event/assemblea-general-ordinaria-i-crida-als-maxims-representants-2027/
ATTACH;FMTTYPE=image/png:http://fallalavia.es/wp-content/uploads/logo_via_casal_2017-e1663869762949.png
END:VEVENT
END:VCALENDAR