BEGIN:VCALENDAR
VERSION:2.0
PRODID:-//Falla La Via - ECPv5.8.2//NONSGML v1.0//EN
CALSCALE:GREGORIAN
METHOD:PUBLISH
X-WR-CALNAME:Falla La Via
X-ORIGINAL-URL:https://fallalavia.es
X-WR-CALDESC:Esdeveniments per Falla La Via
BEGIN:VTIMEZONE
TZID:Europe/Madrid
BEGIN:DAYLIGHT
TZOFFSETFROM:+0100
TZOFFSETTO:+0200
TZNAME:CEST
DTSTART:20240331T010000
END:DAYLIGHT
BEGIN:STANDARD
TZOFFSETFROM:+0200
TZOFFSETTO:+0100
TZNAME:CET
DTSTART:20241027T010000
END:STANDARD
END:VTIMEZONE
BEGIN:VEVENT
DTSTART;TZID=Europe/Madrid:20240511T180000
DTEND;TZID=Europe/Madrid:20240511T180000
DTSTAMP:20260426T053856
CREATED:20240430T164542Z
LAST-MODIFIED:20240430T164551Z
UID:4788-1715450400-1715450400@fallalavia.es
SUMMARY:Assemblea general ordinària
DESCRIPTION:Dissabte 11 de maig\, a les 18 h en primera convocatòria i 18\,30 en segona\, se celebrarà l’assemblea general al Casal.\nDonada la importància dels temes a tractar\, esperem l’assistència de tothom. Teniu tota la informació al vostre correu electrònic.
URL:https://fallalavia.es/event/assemblea-general-ordinaria-4/
ATTACH;FMTTYPE=image/png:https://fallalavia.es/wp-content/uploads/logo_via_casal_2017-e1663869762949.png
END:VEVENT
END:VCALENDAR