BEGIN:VCALENDAR
VERSION:2.0
PRODID:-//Falla La Via - ECPv5.8.2//NONSGML v1.0//EN
CALSCALE:GREGORIAN
METHOD:PUBLISH
X-WR-CALNAME:Falla La Via
X-ORIGINAL-URL:https://fallalavia.es
X-WR-CALDESC:Esdeveniments per Falla La Via
BEGIN:VTIMEZONE
TZID:Europe/Madrid
BEGIN:DAYLIGHT
TZOFFSETFROM:+0100
TZOFFSETTO:+0200
TZNAME:CEST
DTSTART:20250330T010000
END:DAYLIGHT
BEGIN:STANDARD
TZOFFSETFROM:+0200
TZOFFSETTO:+0100
TZNAME:CET
DTSTART:20251026T010000
END:STANDARD
END:VTIMEZONE
BEGIN:VEVENT
DTSTART;TZID=Europe/Madrid:20251213T200000
DTEND;TZID=Europe/Madrid:20251213T233000
DTSTAMP:20260425T211640
CREATED:20251118T092249Z
LAST-MODIFIED:20251118T092249Z
UID:4967-1765656000-1765668600@fallalavia.es
SUMMARY:Cap d'Any Anticipat
DESCRIPTION:
URL:https://fallalavia.es/event/cap-dany-anticipat/
ATTACH;FMTTYPE=image/png:https://fallalavia.es/wp-content/uploads/logo_via_casal_2017-e1663869762949.png
END:VEVENT
END:VCALENDAR