BEGIN:VCALENDAR
VERSION:2.0
PRODID:-//Falla La Via - ECPv5.8.2//NONSGML v1.0//EN
CALSCALE:GREGORIAN
METHOD:PUBLISH
X-WR-CALNAME:Falla La Via
X-ORIGINAL-URL:https://fallalavia.es
X-WR-CALDESC:Esdeveniments per Falla La Via
BEGIN:VTIMEZONE
TZID:Europe/Madrid
BEGIN:DAYLIGHT
TZOFFSETFROM:+0100
TZOFFSETTO:+0200
TZNAME:CEST
DTSTART:20260329T010000
END:DAYLIGHT
BEGIN:STANDARD
TZOFFSETFROM:+0200
TZOFFSETTO:+0100
TZNAME:CET
DTSTART:20261025T010000
END:STANDARD
END:VTIMEZONE
BEGIN:VEVENT
DTSTART;TZID=Europe/Madrid:20260314T113000
DTEND;TZID=Europe/Madrid:20260314T130000
DTSTAMP:20260425T193443
CREATED:20260225T084005Z
LAST-MODIFIED:20260225T084005Z
UID:5014-1773487800-1773493200@fallalavia.es
SUMMARY:Cercavila corre places
DESCRIPTION:
URL:https://fallalavia.es/event/cercavila-corre-places/
ATTACH;FMTTYPE=image/png:https://fallalavia.es/wp-content/uploads/logo_via_casal_2017-e1663869762949.png
END:VEVENT
END:VCALENDAR