BEGIN:VCALENDAR
VERSION:2.0
PRODID:-//Falla La Via - ECPv5.8.2//NONSGML v1.0//EN
CALSCALE:GREGORIAN
METHOD:PUBLISH
X-WR-CALNAME:Falla La Via
X-ORIGINAL-URL:https://fallalavia.es
X-WR-CALDESC:Esdeveniments per Falla La Via
BEGIN:VTIMEZONE
TZID:Europe/Madrid
BEGIN:DAYLIGHT
TZOFFSETFROM:+0100
TZOFFSETTO:+0200
TZNAME:CEST
DTSTART:20250330T010000
END:DAYLIGHT
BEGIN:STANDARD
TZOFFSETFROM:+0200
TZOFFSETTO:+0100
TZNAME:CET
DTSTART:20251026T010000
END:STANDARD
END:VTIMEZONE
BEGIN:VEVENT
DTSTART;TZID=Europe/Madrid:20251219T180000
DTEND;TZID=Europe/Madrid:20251219T200000
DTSTAMP:20260426T004702
CREATED:20250616T080853Z
LAST-MODIFIED:20250616T080853Z
UID:4947-1766167200-1766174400@fallalavia.es
SUMMARY:Concurs de postals nadalenques i narrativa
DESCRIPTION:
URL:https://fallalavia.es/event/concurs-de-postals-nadalenques-i-narrativa/
LOCATION:Casa de la Cultura
ATTACH;FMTTYPE=image/png:https://fallalavia.es/wp-content/uploads/web_FDF-JLF-Tavernes.png
END:VEVENT
END:VCALENDAR