BEGIN:VCALENDAR
VERSION:2.0
PRODID:-//Falla La Via - ECPv5.8.2//NONSGML v1.0//EN
CALSCALE:GREGORIAN
METHOD:PUBLISH
X-WR-CALNAME:Falla La Via
X-ORIGINAL-URL:https://fallalavia.es
X-WR-CALDESC:Esdeveniments per Falla La Via
BEGIN:VTIMEZONE
TZID:Europe/Madrid
BEGIN:DAYLIGHT
TZOFFSETFROM:+0100
TZOFFSETTO:+0200
TZNAME:CEST
DTSTART:20250330T010000
END:DAYLIGHT
BEGIN:STANDARD
TZOFFSETFROM:+0200
TZOFFSETTO:+0100
TZNAME:CET
DTSTART:20251026T010000
END:STANDARD
END:VTIMEZONE
BEGIN:VEVENT
DTSTART;TZID=Europe/Madrid:20250317T100000
DTEND;TZID=Europe/Madrid:20250317T120000
DTSTAMP:20260426T022926
CREATED:20250227T121945Z
LAST-MODIFIED:20250227T121945Z
UID:4924-1742205600-1742212800@fallalavia.es
SUMMARY:Inflables infantils
DESCRIPTION:
URL:https://fallalavia.es/event/inflables-infantils/
END:VEVENT
END:VCALENDAR