BEGIN:VCALENDAR
VERSION:2.0
PRODID:-//Falla La Via - ECPv5.8.2//NONSGML v1.0//EN
CALSCALE:GREGORIAN
METHOD:PUBLISH
X-WR-CALNAME:Falla La Via
X-ORIGINAL-URL:https://fallalavia.es
X-WR-CALDESC:Esdeveniments per Falla La Via
BEGIN:VTIMEZONE
TZID:Europe/Madrid
BEGIN:DAYLIGHT
TZOFFSETFROM:+0100
TZOFFSETTO:+0200
TZNAME:CEST
DTSTART:20240331T010000
END:DAYLIGHT
BEGIN:STANDARD
TZOFFSETFROM:+0200
TZOFFSETTO:+0100
TZNAME:CET
DTSTART:20241027T010000
END:STANDARD
END:VTIMEZONE
BEGIN:VEVENT
DTSTART;TZID=Europe/Madrid:20241201T170000
DTEND;TZID=Europe/Madrid:20241201T200000
DTSTAMP:20260426T053948
CREATED:20240730T093408Z
LAST-MODIFIED:20240730T093408Z
UID:4814-1733072400-1733083200@fallalavia.es
SUMMARY:Presentació FMI 2025 i cort d'honor
DESCRIPTION:
URL:https://fallalavia.es/event/presentacio-fmi-2025-i-cort-dhonor/
ATTACH;FMTTYPE=image/png:https://fallalavia.es/wp-content/uploads/logo.png
END:VEVENT
END:VCALENDAR