BEGIN:VCALENDAR
VERSION:2.0
PRODID:-//Falla La Via - ECPv5.8.2//NONSGML v1.0//EN
CALSCALE:GREGORIAN
METHOD:PUBLISH
X-WR-CALNAME:Falla La Via
X-ORIGINAL-URL:https://fallalavia.es
X-WR-CALDESC:Esdeveniments per Falla La Via
BEGIN:VTIMEZONE
TZID:Europe/Madrid
BEGIN:DAYLIGHT
TZOFFSETFROM:+0100
TZOFFSETTO:+0200
TZNAME:CEST
DTSTART:20240331T010000
END:DAYLIGHT
BEGIN:STANDARD
TZOFFSETFROM:+0200
TZOFFSETTO:+0100
TZNAME:CET
DTSTART:20241027T010000
END:STANDARD
END:VTIMEZONE
BEGIN:VEVENT
DTSTART;TZID=Europe/Madrid:20240615T173000
DTEND;TZID=Europe/Madrid:20240615T235900
DTSTAMP:20260426T053626
CREATED:20240604T093027Z
LAST-MODIFIED:20240612T074113Z
UID:4799-1718472600-1718495940@fallalavia.es
SUMMARY:Torrada d'estiu
DESCRIPTION:🎪El millor espectacle del món està preparat per obrir les seues portes🎪\nFesta de l’aigua amb sorpreses\, novetats i molta màgia! \nFalleretes i fallerets\, nosaltres ja ho tenim tot enllestit! \nFalleres i fallers\, recordeu preparar la vostra taula i fer la reserva!
URL:https://fallalavia.es/event/torrada-destiu-2/
ATTACH;FMTTYPE=image/jpeg:https://fallalavia.es/wp-content/uploads/Imagen-de-WhatsApp-2024-05-31-a-las-20.30.50_3d8dfcb4.jpg
END:VEVENT
END:VCALENDAR