BEGIN:VCALENDAR
VERSION:2.0
PRODID:-//Falla La Via - ECPv5.8.2//NONSGML v1.0//EN
CALSCALE:GREGORIAN
METHOD:PUBLISH
X-WR-CALNAME:Falla La Via
X-ORIGINAL-URL:https://fallalavia.es
X-WR-CALDESC:Esdeveniments per Falla La Via
BEGIN:VTIMEZONE
TZID:Europe/Madrid
BEGIN:DAYLIGHT
TZOFFSETFROM:+0100
TZOFFSETTO:+0200
TZNAME:CEST
DTSTART:20260329T010000
END:DAYLIGHT
BEGIN:STANDARD
TZOFFSETFROM:+0200
TZOFFSETTO:+0100
TZNAME:CET
DTSTART:20261025T010000
END:STANDARD
BEGIN:DAYLIGHT
TZOFFSETFROM:+0100
TZOFFSETTO:+0200
TZNAME:CEST
DTSTART:20270328T010000
END:DAYLIGHT
BEGIN:STANDARD
TZOFFSETFROM:+0200
TZOFFSETTO:+0100
TZNAME:CET
DTSTART:20271031T010000
END:STANDARD
END:VTIMEZONE
BEGIN:VEVENT
DTSTART;TZID=Europe/Madrid:20260428T203000
DTEND;TZID=Europe/Madrid:20260428T210000
DTSTAMP:20260425T145629
CREATED:20260415T151530Z
LAST-MODIFIED:20260415T151530Z
UID:5027-1777408200-1777410000@fallalavia.es
SUMMARY:Recepció de candidatures representants 2027
DESCRIPTION:
URL:https://fallalavia.es/event/recepcio-de-candidatures-representants-2027/
ATTACH;FMTTYPE=image/png:https://fallalavia.es/wp-content/uploads/logo_via_casal_2017-e1663869762949.png
END:VEVENT
BEGIN:VEVENT
DTSTART;TZID=Europe/Madrid:20260502T180000
DTEND;TZID=Europe/Madrid:20260502T193000
DTSTAMP:20260425T145629
CREATED:20260415T151405Z
LAST-MODIFIED:20260415T151405Z
UID:5025-1777744800-1777750200@fallalavia.es
SUMMARY:Assemblea General Ordinària i crida als màxims representants 2027
DESCRIPTION:
URL:https://fallalavia.es/event/assemblea-general-ordinaria-i-crida-als-maxims-representants-2027/
ATTACH;FMTTYPE=image/png:https://fallalavia.es/wp-content/uploads/logo_via_casal_2017-e1663869762949.png
END:VEVENT
BEGIN:VEVENT
DTSTART;TZID=Europe/Madrid:20261003T190000
DTEND;TZID=Europe/Madrid:20261003T200000
DTSTAMP:20260425T145629
CREATED:20260410T075052Z
LAST-MODIFIED:20260410T075052Z
UID:5023-1791054000-1791057600@fallalavia.es
SUMMARY:Proclamació
DESCRIPTION:
URL:https://fallalavia.es/event/proclamacio/
LOCATION:Saló la Font
ATTACH;FMTTYPE=image/png:https://fallalavia.es/wp-content/uploads/logo_via_casal_2017-e1663869762949.png
END:VEVENT
BEGIN:VEVENT
DTSTART;TZID=Europe/Madrid:20261107T180000
DTEND;TZID=Europe/Madrid:20261107T200000
DTSTAMP:20260425T145629
CREATED:20260415T152530Z
LAST-MODIFIED:20260415T152530Z
UID:5030-1794074400-1794081600@fallalavia.es
SUMMARY:Exaltació FM 2027
DESCRIPTION:
URL:https://fallalavia.es/event/exaltacio-fm-2027/
ATTACH;FMTTYPE=image/png:https://fallalavia.es/wp-content/uploads/logo_via_casal_2017-e1663869762949.png
END:VEVENT
BEGIN:VEVENT
DTSTART;TZID=Europe/Madrid:20261108T170000
DTEND;TZID=Europe/Madrid:20261108T190000
DTSTAMP:20260425T145629
CREATED:20260415T152610Z
LAST-MODIFIED:20260415T152610Z
UID:5032-1794157200-1794164400@fallalavia.es
SUMMARY:Exaltació FMI 2027
DESCRIPTION:
URL:https://fallalavia.es/event/exaltacio-fmi-2027/
ATTACH;FMTTYPE=image/png:https://fallalavia.es/wp-content/uploads/logo_via_casal_2017-e1663869762949.png
END:VEVENT
BEGIN:VEVENT
DTSTART;TZID=Europe/Madrid:20270206T180000
DTEND;TZID=Europe/Madrid:20270206T190000
DTSTAMP:20260425T145629
CREATED:20260415T152650Z
LAST-MODIFIED:20260415T152650Z
UID:5034-1801936800-1801940400@fallalavia.es
SUMMARY:Crida i sopar de germanor
DESCRIPTION:
URL:https://fallalavia.es/event/crida-i-sopar-de-germanor-4/
ATTACH;FMTTYPE=image/png:https://fallalavia.es/wp-content/uploads/web_FDF-JLF-Tavernes.png
END:VEVENT
BEGIN:VEVENT
DTSTART;TZID=Europe/Madrid:20270213T170000
DTEND;TZID=Europe/Madrid:20270213T183000
DTSTAMP:20260425T145629
CREATED:20260415T152732Z
LAST-MODIFIED:20260415T152732Z
UID:5036-1802538000-1802543400@fallalavia.es
SUMMARY:Cavalcada del ninot
DESCRIPTION:
URL:https://fallalavia.es/event/cavalcada-del-ninot-6/
ATTACH;FMTTYPE=image/png:https://fallalavia.es/wp-content/uploads/web_FDF-JLF-Tavernes.png
END:VEVENT
END:VCALENDAR